        BEGIN:VCALENDAR
VERSION:2.0
PRODID:-//Gujarat Electricity Regulatory Commission - ECPv5.3.0//NONSGML v1.0//EN
CALSCALE:GREGORIAN
METHOD:PUBLISH
X-WR-CALNAME:Gujarat Electricity Regulatory Commission
X-ORIGINAL-URL:https://gercin.org
X-WR-CALDESC:Events for Gujarat Electricity Regulatory Commission
BEGIN:VTIMEZONE
TZID:Asia/Kolkata
BEGIN:STANDARD
TZOFFSETFROM:+0530
TZOFFSETTO:+0530
TZNAME:IST
DTSTART:20260101T000000
END:STANDARD
END:VTIMEZONE
BEGIN:VEVENT
DTSTART;TZID=Asia/Kolkata:20260417T113000
DTEND;TZID=Asia/Kolkata:20260417T170000
DTSTAMP:20260423T190153
CREATED:20260409T063534Z
LAST-MODIFIED:20260413T072930Z
UID:45597-1776425400-1776445200@gercin.org
SUMMARY:OMB/AHM/7/2026
DESCRIPTION:Non Implementation of CGRF Order
URL:https://gercin.org/hearing-schedule/omb-ahm-7-2026/
CATEGORIES:Ombudsman Hearing Schedule Ahmedabad
END:VEVENT
BEGIN:VEVENT
DTSTART;TZID=Asia/Kolkata:20260417T113000
DTEND;TZID=Asia/Kolkata:20260417T170000
DTSTAMP:20260423T190153
CREATED:20260414T033315Z
LAST-MODIFIED:20260414T033315Z
UID:45633-1776425400-1776445200@gercin.org
SUMMARY:2573/2025 & IA No. 106/2025
DESCRIPTION:Petition under Section 86 of the Electricity Act\, 2003 and relevant GERC Regulations seeking relief against the\nBanak Guarantee due to ongoing litigation and delay in land handover.\nGokul Agro Resources\nLimited\nV/s.\nGETCO
URL:https://gercin.org/hearing-schedule/2573-2025-ia-no-106-2025/
CATEGORIES:Hearing Schedule
END:VEVENT
BEGIN:VEVENT
DTSTART;TZID=Asia/Kolkata:20260417T113000
DTEND;TZID=Asia/Kolkata:20260417T170000
DTSTAMP:20260423T190153
CREATED:20260414T033448Z
LAST-MODIFIED:20260414T033448Z
UID:45635-1776425400-1776445200@gercin.org
SUMMARY:2580/2025 & IAs No. 111/2025 & 112/2025
DESCRIPTION:Petition under Section 86 of EA\, 2003 read with Regulations 80 & 82 GERC (Conduct of Business) Regulations\, 2004\, read with Gujarat Renewable Energy Policy\, 2023 & amendments thereof and the Tariff Order dated 31.08.2024 praying before the Commission to exercise its powers under Section 86 of EA\, 2003 and direct the Respondent GETCO to return/refund/refrain from encashing Bank Guarantee Bearing No. 0871IGP231009976 dated 15.04.2023 amounting to Rs. 25\,00\,000/- from Kotak Mahindra Bank Limited furnished by the Petitioner and further to return the amount of Rs 11\,42\,337/- paid by Petitioner on 03.07.23\, being the provisional line estimate.
URL:https://gercin.org/hearing-schedule/2580-2025-ias-no-111-2025-112-2025/
CATEGORIES:Hearing Schedule
END:VEVENT
BEGIN:VEVENT
DTSTART;TZID=Asia/Kolkata:20260417T113000
DTEND;TZID=Asia/Kolkata:20260417T170000
DTSTAMP:20260423T190153
CREATED:20260414T033631Z
LAST-MODIFIED:20260414T033631Z
UID:45637-1776425400-1776445200@gercin.org
SUMMARY:2595/2025 & IAs No. 115/2025 & 116/2025
DESCRIPTION:Petition under Section 86 of EA\, 2003 r/w. Regulations 80 & 82 GERC (Conduct of Business) Regulations\, 2004\, read with Gujarat Renewable Energy Policy\, 2023 & amendments thereof and the Tariff Order dated 31.08.2024 praying before the Commission to exercise its powers under Section 86 of EA\, 2003 and direct GETCO to refrain from encashing BG bearing no. ICBK3050866370418 dated 29.4.2023 amounting to Rs. 2\,10\,00\,000/- from ICICI Bank Limited furnished by the Petitioner and further to return the amount of Rs 11\,42\,337 paid by the Petitioner on 25.8.2023\, being the provisional line estimate.
URL:https://gercin.org/hearing-schedule/2595-2025-ias-no-115-2025-116-2025/
CATEGORIES:Hearing Schedule
END:VEVENT
BEGIN:VEVENT
DTSTART;TZID=Asia/Kolkata:20260417T113000
DTEND;TZID=Asia/Kolkata:20260417T170000
DTSTAMP:20260423T190153
CREATED:20260414T033733Z
LAST-MODIFIED:20260414T033733Z
UID:45639-1776425400-1776445200@gercin.org
SUMMARY:2598/2025
DESCRIPTION:Petition under Sections 86 (1) (c)\, (e)\, (f) of the Electricity Act\, 2003 read with Regulations 80 & 82 of the GERC (Conduct of Business) Regulations\, 2004 seeking directions for extension of time period for commissioning of the 2.7 MW Project capacity out of 14.5 MW total project capacity allocated due to occurrence of unforeseen and uncontrollable events.
URL:https://gercin.org/hearing-schedule/2598-2025/
CATEGORIES:Hearing Schedule
END:VEVENT
BEGIN:VEVENT
DTSTART;TZID=Asia/Kolkata:20260417T113000
DTEND;TZID=Asia/Kolkata:20260417T170000
DTSTAMP:20260423T190153
CREATED:20260414T033825Z
LAST-MODIFIED:20260414T033825Z
UID:45641-1776425400-1776445200@gercin.org
SUMMARY:2629/2026
DESCRIPTION:Petition seeking approval of the long term Power Procurement plan from a co-generation based Thermal Power Source (Industrial Co-generation Plant)\, in accordance with Clause 108 of the GERC (MYT) Regulations\, 2024 and under the provisions of Section 86 (1) (b) and Section 62 of the Electricity Act\, 2003 read with Clause 4 (vi) of the Guidelines issued by the Department of Commerce (SEZ Division)\, Govt. of India dated 27.10.2010.
URL:https://gercin.org/hearing-schedule/2629-2026/
CATEGORIES:Hearing Schedule
END:VEVENT
BEGIN:VEVENT
DTSTART;TZID=Asia/Kolkata:20260417T113000
DTEND;TZID=Asia/Kolkata:20260417T170000
DTSTAMP:20260423T190153
CREATED:20260414T033929Z
LAST-MODIFIED:20260415T110349Z
UID:45692-1776425400-1776445200@gercin.org
SUMMARY:2630/2026
DESCRIPTION:Petition under Section 62 read with 86 (1) (a) of the Electricity Act\, 2003 for determination of tariff of 40 MW Solar Photovoltaic Grid connected Power Projects located at Pachham\, District Ahmedabad established by GSECL.
URL:https://gercin.org/hearing-schedule/2630-2026/
CATEGORIES:Hearing Schedule
END:VEVENT
BEGIN:VEVENT
DTSTART;TZID=Asia/Kolkata:20260417T113000
DTEND;TZID=Asia/Kolkata:20260417T170000
DTSTAMP:20260423T190153
CREATED:20260414T034107Z
LAST-MODIFIED:20260415T102519Z
UID:45643-1776425400-1776445200@gercin.org
SUMMARY:2593/2025
DESCRIPTION:Petition filed under Section 86 (1) (a) of the Electricity Act\, 2003 read with Article 11 of Power Purchase Agreement dated 14.12.2022 seeking directions to the Respondent to refund the amounts unilaterally deducted from the tariff payable for the solar power supplied by the Petitioner.
URL:https://gercin.org/hearing-schedule/2593-2025/
CATEGORIES:Hearing Schedule
END:VEVENT
BEGIN:VEVENT
DTSTART;TZID=Asia/Kolkata:20260417T113000
DTEND;TZID=Asia/Kolkata:20260417T170000
DTSTAMP:20260423T190153
CREATED:20260414T034200Z
LAST-MODIFIED:20260414T034200Z
UID:45645-1776425400-1776445200@gercin.org
SUMMARY:2594/2025
DESCRIPTION:Petition filed under Section 86 (1) (a) of the Electricity Act\, 2003 read with Article 11 of Power Purchase Agreement dated 28.04.2023 seeking directions to the Respondent to refund the amounts unilaterally deducted from the tariff payable for the solar power supplied by the Petitioner.
URL:https://gercin.org/hearing-schedule/2594-2025/
CATEGORIES:Hearing Schedule
END:VEVENT
END:VCALENDAR