        BEGIN:VCALENDAR
VERSION:2.0
PRODID:-//Gujarat Electricity Regulatory Commission - ECPv5.3.0//NONSGML v1.0//EN
CALSCALE:GREGORIAN
METHOD:PUBLISH
X-WR-CALNAME:Gujarat Electricity Regulatory Commission
X-ORIGINAL-URL:https://gercin.org
X-WR-CALDESC:Events for Gujarat Electricity Regulatory Commission
BEGIN:VTIMEZONE
TZID:Asia/Kolkata
BEGIN:STANDARD
TZOFFSETFROM:+0530
TZOFFSETTO:+0530
TZNAME:IST
DTSTART:20260101T000000
END:STANDARD
END:VTIMEZONE
BEGIN:VEVENT
DTSTART;TZID=Asia/Kolkata:20260415T113000
DTEND;TZID=Asia/Kolkata:20260415T170000
DTSTAMP:20260423T201726
CREATED:20260410T054110Z
LAST-MODIFIED:20260410T054110Z
UID:45602-1776252600-1776272400@gercin.org
SUMMARY:1496/2015
DESCRIPTION:Non-compliance of the Commission’s Order dated 16.1.2015 in Petition No. 1407 of 2014 and allied matters.
URL:https://gercin.org/hearing-schedule/1496-2015-2/
CATEGORIES:Hearing Schedule
END:VEVENT
BEGIN:VEVENT
DTSTART;TZID=Asia/Kolkata:20260415T113000
DTEND;TZID=Asia/Kolkata:20260415T170000
DTSTAMP:20260423T201726
CREATED:20260410T054141Z
LAST-MODIFIED:20260410T054141Z
UID:45604-1776252600-1776272400@gercin.org
SUMMARY:1497/2015
DESCRIPTION:Non-compliance of the Commission’s Order dated 16.1.2015 in Petition No. 1407 of 2014 and allied matters.
URL:https://gercin.org/hearing-schedule/1497-2015-2/
CATEGORIES:Hearing Schedule
END:VEVENT
BEGIN:VEVENT
DTSTART;TZID=Asia/Kolkata:20260415T113000
DTEND;TZID=Asia/Kolkata:20260415T170000
DTSTAMP:20260423T201726
CREATED:20260410T054214Z
LAST-MODIFIED:20260410T054214Z
UID:45606-1776252600-1776272400@gercin.org
SUMMARY:1498/2015
DESCRIPTION:Non-compliance of the Commission’s Order dated 16.1.2015 in Petition No. 1407 of 2014 and allied matters.
URL:https://gercin.org/hearing-schedule/1498-2015-2/
CATEGORIES:Hearing Schedule
END:VEVENT
BEGIN:VEVENT
DTSTART;TZID=Asia/Kolkata:20260415T113000
DTEND;TZID=Asia/Kolkata:20260415T170000
DTSTAMP:20260423T201726
CREATED:20260410T054252Z
LAST-MODIFIED:20260410T054252Z
UID:45608-1776252600-1776272400@gercin.org
SUMMARY:1499/2015
DESCRIPTION:Non-compliance of the Commission’s Order dated 16.1.2015 in Petition No. 1407 of 2014 and allied matters.
URL:https://gercin.org/hearing-schedule/1499-2015-2/
CATEGORIES:Hearing Schedule
END:VEVENT
BEGIN:VEVENT
DTSTART;TZID=Asia/Kolkata:20260415T113000
DTEND;TZID=Asia/Kolkata:20260415T170000
DTSTAMP:20260423T201726
CREATED:20260410T054330Z
LAST-MODIFIED:20260410T054330Z
UID:45610-1776252600-1776272400@gercin.org
SUMMARY:1500/2015
DESCRIPTION:Non-compliance of the Commission’s Order dated 16.1.2015 in Petition No. 1407 of 2014 and allied matters.
URL:https://gercin.org/hearing-schedule/1500-2015-2/
CATEGORIES:Hearing Schedule
END:VEVENT
BEGIN:VEVENT
DTSTART;TZID=Asia/Kolkata:20260415T113000
DTEND;TZID=Asia/Kolkata:20260415T170000
DTSTAMP:20260423T201726
CREATED:20260410T054359Z
LAST-MODIFIED:20260410T054359Z
UID:45612-1776252600-1776272400@gercin.org
SUMMARY:1501/2015
DESCRIPTION:Non-compliance of the Commission’s Order dated 16.1.2015 in Petition No. 1407 of 2014 and allied matters.
URL:https://gercin.org/hearing-schedule/1501-2015-2/
CATEGORIES:Hearing Schedule
END:VEVENT
BEGIN:VEVENT
DTSTART;TZID=Asia/Kolkata:20260415T113000
DTEND;TZID=Asia/Kolkata:20260415T170000
DTSTAMP:20260423T201726
CREATED:20260410T054432Z
LAST-MODIFIED:20260410T054432Z
UID:45614-1776252600-1776272400@gercin.org
SUMMARY:1502/2015
DESCRIPTION:Non-compliance of the Commission’s Order dated 16.1.2015 in Petition No. 1407 of 2014 and allied matters.
URL:https://gercin.org/hearing-schedule/1502-2015-2/
CATEGORIES:Hearing Schedule
END:VEVENT
BEGIN:VEVENT
DTSTART;TZID=Asia/Kolkata:20260415T113000
DTEND;TZID=Asia/Kolkata:20260415T170000
DTSTAMP:20260423T201726
CREATED:20260410T054504Z
LAST-MODIFIED:20260410T054504Z
UID:45616-1776252600-1776272400@gercin.org
SUMMARY:1503/2015
DESCRIPTION:Non-compliance of the Commission’s Order dated 16.1.2015 in Petition No. 1407 of 2014 and allied matters.
URL:https://gercin.org/hearing-schedule/1503-2015-2/
CATEGORIES:Hearing Schedule
END:VEVENT
BEGIN:VEVENT
DTSTART;TZID=Asia/Kolkata:20260415T113000
DTEND;TZID=Asia/Kolkata:20260415T170000
DTSTAMP:20260423T201726
CREATED:20260410T054536Z
LAST-MODIFIED:20260410T054536Z
UID:45618-1776252600-1776272400@gercin.org
SUMMARY:1504/2015
DESCRIPTION:Non-compliance of the Commission’s Order dated 16.1.2015 in Petition No. 1407 of 2014 and allied matters.
URL:https://gercin.org/hearing-schedule/1504-2015-2/
CATEGORIES:Hearing Schedule
END:VEVENT
BEGIN:VEVENT
DTSTART;TZID=Asia/Kolkata:20260415T113000
DTEND;TZID=Asia/Kolkata:20260415T170000
DTSTAMP:20260423T201726
CREATED:20260410T055752Z
LAST-MODIFIED:20260410T060010Z
UID:45620-1776252600-1776272400@gercin.org
SUMMARY:2601/2026
DESCRIPTION:Petition seeking for approval of adoption of tariff discovered through transparent reverse bidding process under Section 63 of EA\, 2003\, with Rs. 2.95 per unit as ceiling tariff in continuation to the Commission’s Order dated 06.05.2025 in Petition No. 2247/2023\, filed under Section 86 and other applicable provisions of EA\, 2003 for approval of prefixed levelized tariff for purchase of power from Decentralize Ground/Stilt Mounted Grid Connected Solar/other RE based power plants under Component-A of the PM-KUSUM scheme as per GoG’ GR No.SLR/11/2020/mini-185/BI dated 11.12.2020&GR No. SLR/e-file/20/2022/BI dated 30.01.2023.
URL:https://gercin.org/hearing-schedule/2601-2026-3/
CATEGORIES:Hearing Schedule
END:VEVENT
BEGIN:VEVENT
DTSTART;TZID=Asia/Kolkata:20260415T113000
DTEND;TZID=Asia/Kolkata:20260415T170000
DTSTAMP:20260423T201726
CREATED:20260410T055831Z
LAST-MODIFIED:20260410T055831Z
UID:45622-1776252600-1776272400@gercin.org
SUMMARY:2602/2026
DESCRIPTION:Petition seeking for approval of adoption of tariff discovered through transparent reverse bidding process under Section 63 of EA\, 2003\, with Rs. 2.95 per unit as ceiling tariff in continuation to the Commission’s Order dated 06.05.2025 in Petition No. 2247/2023\, filed under Section 86 and other applicable provisions of EA\, 2003 for approval of prefixed levelized tariff for purchase of power from Decentralize Ground/Stilt Mounted Grid Connected Solar/other RE based power plants under Component-A of the PM-KUSUM scheme as per GoG’ GR No. SLR/11/2020/mini-185/BI dated 11.12.2020&GR No. SLR/e-file/20/2022/BI dated 30.01.2023.
URL:https://gercin.org/hearing-schedule/2602-2026-3/
CATEGORIES:Hearing Schedule
END:VEVENT
BEGIN:VEVENT
DTSTART;TZID=Asia/Kolkata:20260415T113000
DTEND;TZID=Asia/Kolkata:20260415T170000
DTSTAMP:20260423T201726
CREATED:20260410T060159Z
LAST-MODIFIED:20260410T060159Z
UID:45626-1776252600-1776272400@gercin.org
SUMMARY:2531/2025 & allied IA
DESCRIPTION:Petition under Section 86 (1) (b)\, 86(1)(e)\, Section 86(1)(f) and 86(1)(k) of the Electricity Act\, 2003 read with Article 8 of the Power Purchase Agreement dated 10.05.2023 executed between M/s Juniper Green Beam Private Limited and Gujarat Urja Vikas Nigam Limited\, for supply of 50 MW Wind Power from its Project in the State of Gujarat\, seeking interalia extension of the Scheduled Commercial Operation Date on account of certain Force Majeure Events affecting the Project implementation and thereby passing appropriate Order(s)/ direction(s) in this regard to the extent prayed for herein.
URL:https://gercin.org/hearing-schedule/2531-2025-allied-ia-3/
CATEGORIES:Hearing Schedule
END:VEVENT
BEGIN:VEVENT
DTSTART;TZID=Asia/Kolkata:20260415T113000
DTEND;TZID=Asia/Kolkata:20260415T170000
DTSTAMP:20260423T201726
CREATED:20260410T060246Z
LAST-MODIFIED:20260410T060246Z
UID:45628-1776252600-1776272400@gercin.org
SUMMARY:2532/2025 & allied IA
DESCRIPTION:Petition under Section 86 (1) (b)\, 86(1)(e)\, Section 86(1)(f) and 86(1)(k) of EA\, 2003 read with Article 8 of the Power Purchase Agreement dated 08.02.2024 executed between M/s Juniper Green Kite Private Limited and Gujarat Urja Vikas Nigam Limited\, for supply of 70 MW Wind Power from its Project in the State of Gujarat\, seeking interalia extension of the Scheduled Commercial Operation Date on account of certain Force Majeure Events affecting the Project implementation and passing appropriate Order(s)/ direction(s) in this regard to the extent prayed for herein.
URL:https://gercin.org/hearing-schedule/2532-2025-allied-ia-3/
CATEGORIES:Hearing Schedule
END:VEVENT
END:VCALENDAR