        BEGIN:VCALENDAR
VERSION:2.0
PRODID:-//Gujarat Electricity Regulatory Commission - ECPv5.3.0//NONSGML v1.0//EN
CALSCALE:GREGORIAN
METHOD:PUBLISH
X-WR-CALNAME:Gujarat Electricity Regulatory Commission
X-ORIGINAL-URL:https://gercin.org
X-WR-CALDESC:Events for Gujarat Electricity Regulatory Commission
BEGIN:VTIMEZONE
TZID:Asia/Kolkata
BEGIN:STANDARD
TZOFFSETFROM:+0530
TZOFFSETTO:+0530
TZNAME:IST
DTSTART:20260101T000000
END:STANDARD
END:VTIMEZONE
BEGIN:VEVENT
DTSTART;TZID=Asia/Kolkata:20260409T113000
DTEND;TZID=Asia/Kolkata:20260409T170000
DTSTAMP:20260424T040826
CREATED:20260404T054429Z
LAST-MODIFIED:20260404T054429Z
UID:45509-1775734200-1775754000@gercin.org
SUMMARY:2565/2025
DESCRIPTION:Petition under Section 86 (1) (b) (e)\, (f) and (i) of EA\, 2003 read with Regulations for Net Metering Rooftop Solar PV Grid Interactive Systems’ Notification No. 5 of 2016 and its Subsequent amendments particularly the Third Amendments dated 31.05.2022 read with Inter connection (Provisional) Agreement between the Petitioner and the Respondents.
URL:https://gercin.org/hearing-schedule/2565-2025/
CATEGORIES:Hearing Schedule
END:VEVENT
BEGIN:VEVENT
DTSTART;TZID=Asia/Kolkata:20260409T113000
DTEND;TZID=Asia/Kolkata:20260409T170000
DTSTAMP:20260424T040826
CREATED:20260404T054508Z
LAST-MODIFIED:20260404T054508Z
UID:45511-1775734200-1775754000@gercin.org
SUMMARY:2566/2025 & IA No. 99/2025
DESCRIPTION:Petition under Section 86 (1)(f) (c) & (e) and other applicable provisions of the Electricity Act\, 2003 read with read with Regulations 80 & 82 of the GERC (Conduct of Business) Regulations\, 2004 seeking extension of time period for construction of the evacuation infrastructure.
URL:https://gercin.org/hearing-schedule/2566-2025-ia-no-99-2025/
CATEGORIES:Hearing Schedule
END:VEVENT
BEGIN:VEVENT
DTSTART;TZID=Asia/Kolkata:20260409T113000
DTEND;TZID=Asia/Kolkata:20260409T170000
DTSTAMP:20260424T040826
CREATED:20260404T054556Z
LAST-MODIFIED:20260404T054556Z
UID:45513-1775734200-1775754000@gercin.org
SUMMARY:2567/2025 & IA No. 101/2025
DESCRIPTION:Petition under Section 86 of EA\, 2003 read with Order No. 01 of 2024 dated 22.02.2024 for ‘Tariff Framework for Procurement of Power by Distribution Licensees and Others from Wind-Solar Hybrid Projects Including Storage\, if any\, and other Commercial Issues for the State of Gujarat’ passed by the Commission\, seeking extension of the Scheduled Date of Commissioning (SCOD) of allocated evacuation infrastructure being developed by the Petitioner for evacuation of power from its 20 MW wind-solar hybrid power plant to the Respondent’s 220/ 66kV Rajula(Sintex) sub-station\, on account of occurrences and circumstances beyond the reasonable control of the Petitioner being Unforeseen reasons.
URL:https://gercin.org/hearing-schedule/2567-2025-ia-no-101-2025/
CATEGORIES:Hearing Schedule
END:VEVENT
BEGIN:VEVENT
DTSTART;TZID=Asia/Kolkata:20260409T113000
DTEND;TZID=Asia/Kolkata:20260409T170000
DTSTAMP:20260424T040826
CREATED:20260404T054739Z
LAST-MODIFIED:20260404T054739Z
UID:45517-1775734200-1775754000@gercin.org
SUMMARY:2576/2025 & IAs No. 108/2025 & 109/2025
DESCRIPTION:Petition under Sections 86 (1) (b)\, (e)\, (f) and (k) of the Electricity Act\, 2003 read with Clause 3.5 of the “Tariff Framework for Procurement of Power by Distribution Licensees and Others from Solar Energy Projects and Other Commercial Issues for the State of Gujarat dated 08.05.2020 seeking inter-alia\, extension of allocated evacuation infrastructure being developed by the Petitioner for evacuation of power from its 9 MW Solar Power Plant to the Respondent’s 220kv/66kv Sadla Sub-Station on account of certain force majeure events and beyond the reasonable control of the Petitioner being unforeseen reasons affecting the project implementation and read with Regulation 80 of the GERC (Conduct of Business) Regulations\, 2004 and thereby passing appropriate order(s) /direction(s) in this regard to the extent prayed by the Petitioner herein.
URL:https://gercin.org/hearing-schedule/2576-2025-ias-no-108-2025-109-2025/
CATEGORIES:Hearing Schedule
END:VEVENT
BEGIN:VEVENT
DTSTART;TZID=Asia/Kolkata:20260409T113000
DTEND;TZID=Asia/Kolkata:20260409T170000
DTSTAMP:20260424T040826
CREATED:20260404T054815Z
LAST-MODIFIED:20260404T054815Z
UID:45519-1775734200-1775754000@gercin.org
SUMMARY:2577/2025
DESCRIPTION:Petition under Sections 86 (1) (f) of the Electricity Act\, 2003 read with Electricity (Promotion of Generation of Electricity from Must-Run Power Plant) Rules\, 2021 and the PPA dated 26.08.2019.
URL:https://gercin.org/hearing-schedule/2577-2025/
CATEGORIES:Hearing Schedule
END:VEVENT
BEGIN:VEVENT
DTSTART;TZID=Asia/Kolkata:20260409T113000
DTEND;TZID=Asia/Kolkata:20260409T170000
DTSTAMP:20260424T040826
CREATED:20260404T054901Z
LAST-MODIFIED:20260404T054901Z
UID:45521-1775734200-1775754000@gercin.org
SUMMARY:2578/2025 & IAs No. 110/2025 & 113/2025
DESCRIPTION:Petition filed under Section 86 (1) (a) read with Section 86 (1) (f) of the EA 2003 read with Article 8 of Power Purchase Agreement dated 14.12.2022 executed between the parties seeking extension of the Scheduled Commercial Operation Date (SCOD) due to various events of Force Majeure inter alia\, on account of delays caused due to reasons and unforeseen events not attributable to the Petitioner and declaration that such extended SCOD shall be substituted for all references to SCOD in such PPA.
URL:https://gercin.org/hearing-schedule/2578-2025-ias-no-110-2025-113-2025/
CATEGORIES:Hearing Schedule
END:VEVENT
BEGIN:VEVENT
DTSTART;TZID=Asia/Kolkata:20260409T113000
DTEND;TZID=Asia/Kolkata:20260409T170000
DTSTAMP:20260424T040826
CREATED:20260404T054940Z
LAST-MODIFIED:20260404T054940Z
UID:45523-1775734200-1775754000@gercin.org
SUMMARY:2596/2025
DESCRIPTION:Petition under Section 86 of the Electricity Act\, 2003 read with Order No. 01 of 2024 dated 22.02.2024 ‘Tariff Framework for Procurement of Power by Distribution Licensees and Others from Wind-Solar Hybrid Projects Including Storage\, if any\, and other Commercial Issues for the State of Gujarat’ and Final Order dated 11.11.2025 passed by the Commission in Petition No. 2470 of 2025 for grant of extension to the Petitioner qua\ncommissioning of its Hybrid RE Power Project.
URL:https://gercin.org/hearing-schedule/2596-2025/
CATEGORIES:Hearing Schedule
END:VEVENT
BEGIN:VEVENT
DTSTART;TZID=Asia/Kolkata:20260409T113000
DTEND;TZID=Asia/Kolkata:20260409T170000
DTSTAMP:20260424T040826
CREATED:20260404T055057Z
LAST-MODIFIED:20260408T052124Z
UID:45507-1775734200-1775754000@gercin.org
SUMMARY:2562/2025
DESCRIPTION:Petition under Section 86 (1) (f) of the Electricity Act\, 2003 read with Articles 8 and 11 of the Power Purchase Agreement dated 10.05.2023 seeking extension of the timeline for Scheduled Commercial Operation Date on account of force majeure events viz. incessant rainfall causing flood like situation and cascading impacts and delay in grant of approval of Sections 68 and 164 of the Electricity Act\, 2003 which is beyond the reasonable control of the Petitioner and consequential reliefs thereto.
URL:https://gercin.org/hearing-schedule/2562-2025/
CATEGORIES:Hearing Schedule
END:VEVENT
BEGIN:VEVENT
DTSTART;TZID=Asia/Kolkata:20260409T113000
DTEND;TZID=Asia/Kolkata:20260409T170000
DTSTAMP:20260424T040826
CREATED:20260404T055149Z
LAST-MODIFIED:20260408T052206Z
UID:45515-1775734200-1775754000@gercin.org
SUMMARY:2571/2025 & IA No. 07/2026
DESCRIPTION:Petition filed under Section 86 (1) (f) of the Electricity Act\, 2003 read with Article 8 of Power Purchase Agreement dated 10.05.2023 seeking extension of the timeline for the Scheduled Commercial Operation Date (SCOD) on account of Force Majeure events beyond the reasonable control of the Petitioner and consequential reliefs thereto.
URL:https://gercin.org/hearing-schedule/2571-2025-ia-no-07-2026/
CATEGORIES:Hearing Schedule
END:VEVENT
END:VCALENDAR