        BEGIN:VCALENDAR
VERSION:2.0
PRODID:-//Gujarat Electricity Regulatory Commission - ECPv5.3.0//NONSGML v1.0//EN
CALSCALE:GREGORIAN
METHOD:PUBLISH
X-WR-CALNAME:Gujarat Electricity Regulatory Commission
X-ORIGINAL-URL:https://gercin.org
X-WR-CALDESC:Events for Gujarat Electricity Regulatory Commission
BEGIN:VTIMEZONE
TZID:Asia/Kolkata
BEGIN:STANDARD
TZOFFSETFROM:+0530
TZOFFSETTO:+0530
TZNAME:IST
DTSTART:20170101T000000
END:STANDARD
END:VTIMEZONE
BEGIN:VEVENT
DTSTART;TZID=Asia/Kolkata:20171026T113000
DTEND;TZID=Asia/Kolkata:20171026T173000
DTSTAMP:20260420T030603
CREATED:20190826T170526Z
LAST-MODIFIED:20190826T170526Z
UID:9196-1509017400-1509039000@gercin.org
SUMMARY:OMB/94/2017
DESCRIPTION:High Energybill
URL:https://gercin.org/hearing-schedule/omb-94-2017-2/
CATEGORIES:Ombudsman Hearing Schedule Ahmedabad
END:VEVENT
BEGIN:VEVENT
DTSTART;TZID=Asia/Kolkata:20171026T113000
DTEND;TZID=Asia/Kolkata:20171026T173000
DTSTAMP:20260420T030603
CREATED:20190826T170526Z
LAST-MODIFIED:20190826T170526Z
UID:9197-1509017400-1509039000@gercin.org
SUMMARY:OMB/95/2017
DESCRIPTION:Billing Related
URL:https://gercin.org/hearing-schedule/omb-95-2017-2/
CATEGORIES:Ombudsman Hearing Schedule Ahmedabad
END:VEVENT
BEGIN:VEVENT
DTSTART;TZID=Asia/Kolkata:20171026T113000
DTEND;TZID=Asia/Kolkata:20171026T173000
DTSTAMP:20260420T030603
CREATED:20190826T170526Z
LAST-MODIFIED:20190826T170526Z
UID:9198-1509017400-1509039000@gercin.org
SUMMARY:OMB/97/2017
DESCRIPTION:Meter Slowness & Supplementary Bill Issue
URL:https://gercin.org/hearing-schedule/omb-97-2017/
CATEGORIES:Ombudsman Hearing Schedule Ahmedabad
END:VEVENT
BEGIN:VEVENT
DTSTART;TZID=Asia/Kolkata:20171026T113000
DTEND;TZID=Asia/Kolkata:20171026T173000
DTSTAMP:20260420T030603
CREATED:20190826T170526Z
LAST-MODIFIED:20190826T170526Z
UID:9199-1509017400-1509039000@gercin.org
SUMMARY:OMB/98/2017
DESCRIPTION:Billing Related
URL:https://gercin.org/hearing-schedule/omb-98-2017/
CATEGORIES:Ombudsman Hearing Schedule Ahmedabad
END:VEVENT
BEGIN:VEVENT
DTSTART;TZID=Asia/Kolkata:20171026T113000
DTEND;TZID=Asia/Kolkata:20171026T173000
DTSTAMP:20260420T030603
CREATED:20190826T170526Z
LAST-MODIFIED:20190826T170526Z
UID:9200-1509017400-1509039000@gercin.org
SUMMARY:OMB/99/2017
DESCRIPTION:Interest on SD Amount
URL:https://gercin.org/hearing-schedule/omb-99-2017/
CATEGORIES:Ombudsman Hearing Schedule Ahmedabad
END:VEVENT
BEGIN:VEVENT
DTSTART;TZID=Asia/Kolkata:20171026T113000
DTEND;TZID=Asia/Kolkata:20171026T173000
DTSTAMP:20260420T030603
CREATED:20190826T170526Z
LAST-MODIFIED:20190826T170526Z
UID:9201-1509017400-1509039000@gercin.org
SUMMARY:OMB/100/2017
DESCRIPTION:Safety Related
URL:https://gercin.org/hearing-schedule/omb-100-2017/
CATEGORIES:Ombudsman Hearing Schedule Ahmedabad
END:VEVENT
BEGIN:VEVENT
DTSTART;TZID=Asia/Kolkata:20171026T120000
DTEND;TZID=Asia/Kolkata:20171026T180000
DTSTAMP:20260420T030603
CREATED:20190826T170526Z
LAST-MODIFIED:20190826T170526Z
UID:9202-1509019200-1509040800@gercin.org
SUMMARY:OMB/32/2017
DESCRIPTION:Review case no.32/2017
URL:https://gercin.org/hearing-schedule/omb-32-2017-2/
CATEGORIES:Ombudsman Hearing Schedule Ahmedabad
END:VEVENT
BEGIN:VEVENT
DTSTART;TZID=Asia/Kolkata:20171026T120000
DTEND;TZID=Asia/Kolkata:20171026T180000
DTSTAMP:20260420T030603
CREATED:20190826T170526Z
LAST-MODIFIED:20190826T170526Z
UID:9203-1509019200-1509040800@gercin.org
SUMMARY:OMB/45/2017
DESCRIPTION:Review case no.45/2017
URL:https://gercin.org/hearing-schedule/omb-45-2017-3/
CATEGORIES:Ombudsman Hearing Schedule Ahmedabad
END:VEVENT
END:VCALENDAR