        BEGIN:VCALENDAR
VERSION:2.0
PRODID:-//Gujarat Electricity Regulatory Commission - ECPv5.3.0//NONSGML v1.0//EN
CALSCALE:GREGORIAN
METHOD:PUBLISH
X-WR-CALNAME:Gujarat Electricity Regulatory Commission
X-ORIGINAL-URL:https://gercin.org
X-WR-CALDESC:Events for Gujarat Electricity Regulatory Commission
BEGIN:VTIMEZONE
TZID:Asia/Kolkata
BEGIN:STANDARD
TZOFFSETFROM:+0530
TZOFFSETTO:+0530
TZNAME:IST
DTSTART:20170101T000000
END:STANDARD
END:VTIMEZONE
BEGIN:VEVENT
DTSTART;TZID=Asia/Kolkata:20170907T113000
DTEND;TZID=Asia/Kolkata:20170907T173000
DTSTAMP:20260419T223922
CREATED:20190826T170439Z
LAST-MODIFIED:20190826T170439Z
UID:9144-1504783800-1504805400@gercin.org
SUMMARY:OMB/61/2017
DESCRIPTION:To Cancel The Illegal Connection
URL:https://gercin.org/hearing-schedule/omb-61-2017-2/
CATEGORIES:Ombudsman Hearing Schedule Ahmedabad
END:VEVENT
BEGIN:VEVENT
DTSTART;TZID=Asia/Kolkata:20170907T113000
DTEND;TZID=Asia/Kolkata:20170907T173000
DTSTAMP:20260419T223922
CREATED:20190826T170439Z
LAST-MODIFIED:20190826T170439Z
UID:9145-1504783800-1504805400@gercin.org
SUMMARY:OMB/65/2017
DESCRIPTION:Non Implementation of CGRF order
URL:https://gercin.org/hearing-schedule/omb-65-2017/
CATEGORIES:Ombudsman Hearing Schedule Ahmedabad
END:VEVENT
BEGIN:VEVENT
DTSTART;TZID=Asia/Kolkata:20170907T113000
DTEND;TZID=Asia/Kolkata:20170907T173000
DTSTAMP:20260419T223922
CREATED:20190826T170439Z
LAST-MODIFIED:20190826T170439Z
UID:9146-1504783800-1504805400@gercin.org
SUMMARY:OMB/66/2017
DESCRIPTION:Refund of amount Paid
URL:https://gercin.org/hearing-schedule/omb-66-2017/
CATEGORIES:Ombudsman Hearing Schedule Ahmedabad
END:VEVENT
BEGIN:VEVENT
DTSTART;TZID=Asia/Kolkata:20170907T113000
DTEND;TZID=Asia/Kolkata:20170907T173000
DTSTAMP:20260419T223922
CREATED:20190826T170439Z
LAST-MODIFIED:20190826T170439Z
UID:9147-1504783800-1504805400@gercin.org
SUMMARY:OMB/67/2017
DESCRIPTION:To Cancel the Merger Notice
URL:https://gercin.org/hearing-schedule/omb-67-2017/
CATEGORIES:Ombudsman Hearing Schedule Ahmedabad
END:VEVENT
BEGIN:VEVENT
DTSTART;TZID=Asia/Kolkata:20170907T113000
DTEND;TZID=Asia/Kolkata:20170907T173000
DTSTAMP:20260419T223922
CREATED:20190826T170439Z
LAST-MODIFIED:20190826T170439Z
UID:9148-1504783800-1504805400@gercin.org
SUMMARY:OMB/68/2017
DESCRIPTION:To Cancel the Merger Notice
URL:https://gercin.org/hearing-schedule/omb-68-2017/
CATEGORIES:Ombudsman Hearing Schedule Ahmedabad
END:VEVENT
BEGIN:VEVENT
DTSTART;TZID=Asia/Kolkata:20170907T113000
DTEND;TZID=Asia/Kolkata:20170907T173000
DTSTAMP:20260419T223922
CREATED:20190826T170439Z
LAST-MODIFIED:20190826T170439Z
UID:9149-1504783800-1504805400@gercin.org
SUMMARY:OMB/69/2017
DESCRIPTION:To Cancel the Merger Notice
URL:https://gercin.org/hearing-schedule/omb-69-2017/
CATEGORIES:Ombudsman Hearing Schedule Ahmedabad
END:VEVENT
BEGIN:VEVENT
DTSTART;TZID=Asia/Kolkata:20170907T113000
DTEND;TZID=Asia/Kolkata:20170907T173000
DTSTAMP:20260419T223922
CREATED:20190826T170439Z
LAST-MODIFIED:20190826T170439Z
UID:9150-1504783800-1504805400@gercin.org
SUMMARY:OMB/70/2017
DESCRIPTION:New Agriculture Connection
URL:https://gercin.org/hearing-schedule/omb-70-2017/
CATEGORIES:Ombudsman Hearing Schedule Ahmedabad
END:VEVENT
BEGIN:VEVENT
DTSTART;TZID=Asia/Kolkata:20170907T113000
DTEND;TZID=Asia/Kolkata:20170907T173000
DTSTAMP:20260419T223922
CREATED:20190826T170439Z
LAST-MODIFIED:20190826T170439Z
UID:9151-1504783800-1504805400@gercin.org
SUMMARY:OMB/71/2017
DESCRIPTION:To Cancel the Merger Notice
URL:https://gercin.org/hearing-schedule/omb-71-2017/
CATEGORIES:Ombudsman Hearing Schedule Ahmedabad
END:VEVENT
BEGIN:VEVENT
DTSTART;TZID=Asia/Kolkata:20170907T113000
DTEND;TZID=Asia/Kolkata:20170907T173000
DTSTAMP:20260419T223922
CREATED:20190826T170439Z
LAST-MODIFIED:20190826T170439Z
UID:9152-1504783800-1504805400@gercin.org
SUMMARY:OMB/72/2017
DESCRIPTION:To Cancel the Merger Notice
URL:https://gercin.org/hearing-schedule/omb-72-2017/
CATEGORIES:Ombudsman Hearing Schedule Ahmedabad
END:VEVENT
BEGIN:VEVENT
DTSTART;TZID=Asia/Kolkata:20170907T113000
DTEND;TZID=Asia/Kolkata:20170907T173000
DTSTAMP:20260419T223922
CREATED:20190826T170439Z
LAST-MODIFIED:20190826T170439Z
UID:9153-1504783800-1504805400@gercin.org
SUMMARY:OMB/74/2017
DESCRIPTION:To Cancel the Merger Notice
URL:https://gercin.org/hearing-schedule/omb-74-2017/
CATEGORIES:Ombudsman Hearing Schedule Ahmedabad
END:VEVENT
BEGIN:VEVENT
DTSTART;TZID=Asia/Kolkata:20170907T113000
DTEND;TZID=Asia/Kolkata:20170907T173000
DTSTAMP:20260419T223922
CREATED:20190826T170454Z
LAST-MODIFIED:20190826T170454Z
UID:9154-1504783800-1504805400@gercin.org
SUMMARY:OMB/75/2017
DESCRIPTION:New Agriculture Connection
URL:https://gercin.org/hearing-schedule/omb-75-2017/
CATEGORIES:Ombudsman Hearing Schedule Ahmedabad
END:VEVENT
BEGIN:VEVENT
DTSTART;TZID=Asia/Kolkata:20170907T113000
DTEND;TZID=Asia/Kolkata:20170907T173000
DTSTAMP:20260419T223922
CREATED:20190826T170454Z
LAST-MODIFIED:20190826T170454Z
UID:9155-1504783800-1504805400@gercin.org
SUMMARY:OMB/76/2017
DESCRIPTION:Load Reduction & Final Bill Related
URL:https://gercin.org/hearing-schedule/omb-76-2017/
CATEGORIES:Ombudsman Hearing Schedule Ahmedabad
END:VEVENT
BEGIN:VEVENT
DTSTART;TZID=Asia/Kolkata:20170907T113000
DTEND;TZID=Asia/Kolkata:20170907T173000
DTSTAMP:20260419T223922
CREATED:20190826T170611Z
LAST-MODIFIED:20190826T170611Z
UID:9268-1504783800-1504805400@gercin.org
SUMMARY:OMB/73/2017
DESCRIPTION:Billing Related
URL:https://gercin.org/hearing-schedule/omb-73-2017/
CATEGORIES:Ombudsman Hearing Schedule Ahmedabad
END:VEVENT
END:VCALENDAR