        BEGIN:VCALENDAR
VERSION:2.0
PRODID:-//Gujarat Electricity Regulatory Commission - ECPv5.3.0//NONSGML v1.0//EN
CALSCALE:GREGORIAN
METHOD:PUBLISH
X-WR-CALNAME:Gujarat Electricity Regulatory Commission
X-ORIGINAL-URL:https://gercin.org
X-WR-CALDESC:Events for Gujarat Electricity Regulatory Commission
BEGIN:VTIMEZONE
TZID:Asia/Kolkata
BEGIN:STANDARD
TZOFFSETFROM:+0530
TZOFFSETTO:+0530
TZNAME:IST
DTSTART:20170101T000000
END:STANDARD
END:VTIMEZONE
BEGIN:VEVENT
DTSTART;TZID=Asia/Kolkata:20170824T113000
DTEND;TZID=Asia/Kolkata:20170824T173000
DTSTAMP:20260420T085902
CREATED:20190826T170425Z
LAST-MODIFIED:20190826T170425Z
UID:9130-1503574200-1503595800@gercin.org
SUMMARY:OMB/39/2017
DESCRIPTION:Non Implementation of CGRF order
URL:https://gercin.org/hearing-schedule/omb-39-2017-3/
CATEGORIES:Ombudsman Hearing Schedule Ahmedabad
END:VEVENT
BEGIN:VEVENT
DTSTART;TZID=Asia/Kolkata:20170824T113000
DTEND;TZID=Asia/Kolkata:20170824T173000
DTSTAMP:20260420T085902
CREATED:20190826T170425Z
LAST-MODIFIED:20190826T170425Z
UID:9131-1503574200-1503595800@gercin.org
SUMMARY:OMB/40/2017
DESCRIPTION:Estimate Related
URL:https://gercin.org/hearing-schedule/omb-40-2017-2/
CATEGORIES:Ombudsman Hearing Schedule Ahmedabad
END:VEVENT
BEGIN:VEVENT
DTSTART;TZID=Asia/Kolkata:20170824T113000
DTEND;TZID=Asia/Kolkata:20170824T173000
DTSTAMP:20260420T085902
CREATED:20190826T170425Z
LAST-MODIFIED:20190826T170425Z
UID:9132-1503574200-1503595800@gercin.org
SUMMARY:OMB/55/2017
DESCRIPTION:New Connection
URL:https://gercin.org/hearing-schedule/omb-55-2017/
CATEGORIES:Ombudsman Hearing Schedule Ahmedabad
END:VEVENT
BEGIN:VEVENT
DTSTART;TZID=Asia/Kolkata:20170824T113000
DTEND;TZID=Asia/Kolkata:20170824T173000
DTSTAMP:20260420T085902
CREATED:20190826T170439Z
LAST-MODIFIED:20190826T170439Z
UID:9135-1503574200-1503595800@gercin.org
SUMMARY:OMB/56/2017
DESCRIPTION:Load Reduction
URL:https://gercin.org/hearing-schedule/omb-56-2017/
CATEGORIES:Ombudsman Hearing Schedule Ahmedabad
END:VEVENT
BEGIN:VEVENT
DTSTART;TZID=Asia/Kolkata:20170824T113000
DTEND;TZID=Asia/Kolkata:20170824T173000
DTSTAMP:20260420T085902
CREATED:20190826T170439Z
LAST-MODIFIED:20190826T170439Z
UID:9136-1503574200-1503595800@gercin.org
SUMMARY:OMB/57/2017
DESCRIPTION:Estimate Related
URL:https://gercin.org/hearing-schedule/omb-57-2017/
CATEGORIES:Ombudsman Hearing Schedule Ahmedabad
END:VEVENT
BEGIN:VEVENT
DTSTART;TZID=Asia/Kolkata:20170824T113000
DTEND;TZID=Asia/Kolkata:20170824T173000
DTSTAMP:20260420T085902
CREATED:20190826T170439Z
LAST-MODIFIED:20190826T170439Z
UID:9137-1503574200-1503595800@gercin.org
SUMMARY:OMB/58/2017
DESCRIPTION:High Energybill
URL:https://gercin.org/hearing-schedule/omb-58-2017/
CATEGORIES:Ombudsman Hearing Schedule Ahmedabad
END:VEVENT
BEGIN:VEVENT
DTSTART;TZID=Asia/Kolkata:20170824T113000
DTEND;TZID=Asia/Kolkata:20170824T173000
DTSTAMP:20260420T085902
CREATED:20190826T170439Z
LAST-MODIFIED:20190826T170439Z
UID:9138-1503574200-1503595800@gercin.org
SUMMARY:OMB/59/2017
DESCRIPTION:Non Implementation of CGRF order
URL:https://gercin.org/hearing-schedule/omb-59-2017/
CATEGORIES:Ombudsman Hearing Schedule Ahmedabad
END:VEVENT
BEGIN:VEVENT
DTSTART;TZID=Asia/Kolkata:20170824T113000
DTEND;TZID=Asia/Kolkata:20170824T173000
DTSTAMP:20260420T085902
CREATED:20190826T170439Z
LAST-MODIFIED:20190826T170439Z
UID:9139-1503574200-1503595800@gercin.org
SUMMARY:OMB/60/2017
DESCRIPTION:Billing Related
URL:https://gercin.org/hearing-schedule/omb-60-2017/
CATEGORIES:Ombudsman Hearing Schedule Ahmedabad
END:VEVENT
BEGIN:VEVENT
DTSTART;TZID=Asia/Kolkata:20170824T113000
DTEND;TZID=Asia/Kolkata:20170824T173000
DTSTAMP:20260420T085902
CREATED:20190826T170439Z
LAST-MODIFIED:20190826T170439Z
UID:9140-1503574200-1503595800@gercin.org
SUMMARY:OMB/61/2017
DESCRIPTION:To Cancel The Illegal Connection
URL:https://gercin.org/hearing-schedule/omb-61-2017/
CATEGORIES:Ombudsman Hearing Schedule Ahmedabad
END:VEVENT
BEGIN:VEVENT
DTSTART;TZID=Asia/Kolkata:20170824T113000
DTEND;TZID=Asia/Kolkata:20170824T173000
DTSTAMP:20260420T085902
CREATED:20190826T170439Z
LAST-MODIFIED:20190826T170439Z
UID:9141-1503574200-1503595800@gercin.org
SUMMARY:OMB/62/2017
DESCRIPTION:PDC Reconnection & Tariff Related
URL:https://gercin.org/hearing-schedule/omb-62-2017/
CATEGORIES:Ombudsman Hearing Schedule Ahmedabad
END:VEVENT
BEGIN:VEVENT
DTSTART;TZID=Asia/Kolkata:20170824T113000
DTEND;TZID=Asia/Kolkata:20170824T173000
DTSTAMP:20260420T085902
CREATED:20190826T170439Z
LAST-MODIFIED:20190826T170439Z
UID:9142-1503574200-1503595800@gercin.org
SUMMARY:OMB/45/2017
DESCRIPTION:Delay in release of connection
URL:https://gercin.org/hearing-schedule/omb-45-2017-2/
CATEGORIES:Ombudsman Hearing Schedule Ahmedabad
END:VEVENT
BEGIN:VEVENT
DTSTART;TZID=Asia/Kolkata:20170824T113000
DTEND;TZID=Asia/Kolkata:20170824T173000
DTSTAMP:20260420T085902
CREATED:20190826T170439Z
LAST-MODIFIED:20190826T170439Z
UID:9143-1503574200-1503595800@gercin.org
SUMMARY:OMB/53/2017
DESCRIPTION:Name Change
URL:https://gercin.org/hearing-schedule/omb-53-2017/
CATEGORIES:Ombudsman Hearing Schedule Ahmedabad
END:VEVENT
BEGIN:VEVENT
DTSTART;TZID=Asia/Kolkata:20170824T113000
DTEND;TZID=Asia/Kolkata:20170824T173000
DTSTAMP:20260420T085902
CREATED:20190826T170541Z
LAST-MODIFIED:20190826T170541Z
UID:9219-1503574200-1503595800@gercin.org
SUMMARY:OMB/63/2017
DESCRIPTION:PDC Reconnection
URL:https://gercin.org/hearing-schedule/omb-63-2017/
CATEGORIES:Ombudsman Hearing Schedule Ahmedabad
END:VEVENT
BEGIN:VEVENT
DTSTART;TZID=Asia/Kolkata:20170824T113000
DTEND;TZID=Asia/Kolkata:20170824T173000
DTSTAMP:20260420T085902
CREATED:20190826T170541Z
LAST-MODIFIED:20190826T170541Z
UID:9220-1503574200-1503595800@gercin.org
SUMMARY:OMB/64/2017
DESCRIPTION:Meter Faulty & Billing Related
URL:https://gercin.org/hearing-schedule/omb-64-2017/
CATEGORIES:Ombudsman Hearing Schedule Ahmedabad
END:VEVENT
END:VCALENDAR