        BEGIN:VCALENDAR
VERSION:2.0
PRODID:-//Gujarat Electricity Regulatory Commission - ECPv5.3.0//NONSGML v1.0//EN
CALSCALE:GREGORIAN
METHOD:PUBLISH
X-WR-CALNAME:Gujarat Electricity Regulatory Commission
X-ORIGINAL-URL:https://gercin.org
X-WR-CALDESC:Events for Gujarat Electricity Regulatory Commission
BEGIN:VTIMEZONE
TZID:Asia/Kolkata
BEGIN:STANDARD
TZOFFSETFROM:+0530
TZOFFSETTO:+0530
TZNAME:IST
DTSTART:20170101T000000
END:STANDARD
END:VTIMEZONE
BEGIN:VEVENT
DTSTART;TZID=Asia/Kolkata:20170518T113000
DTEND;TZID=Asia/Kolkata:20170518T173000
DTSTAMP:20260420T102635
CREATED:20190826T170409Z
LAST-MODIFIED:20190826T170409Z
UID:9113-1495107000-1495128600@gercin.org
SUMMARY:OMB/36/2017
DESCRIPTION:Billing Related
URL:https://gercin.org/hearing-schedule/omb-36-2017/
CATEGORIES:Ombudsman Hearing Schedule Ahmedabad
END:VEVENT
BEGIN:VEVENT
DTSTART;TZID=Asia/Kolkata:20170518T113000
DTEND;TZID=Asia/Kolkata:20170518T173000
DTSTAMP:20260420T102635
CREATED:20190826T170425Z
LAST-MODIFIED:20190826T170425Z
UID:9114-1495107000-1495128600@gercin.org
SUMMARY:OMB/37/2017
DESCRIPTION:Estimate Related
URL:https://gercin.org/hearing-schedule/omb-37-2017/
CATEGORIES:Ombudsman Hearing Schedule Ahmedabad
END:VEVENT
BEGIN:VEVENT
DTSTART;TZID=Asia/Kolkata:20170518T113000
DTEND;TZID=Asia/Kolkata:20170518T173000
DTSTAMP:20260420T102635
CREATED:20190826T170425Z
LAST-MODIFIED:20190826T170425Z
UID:9115-1495107000-1495128600@gercin.org
SUMMARY:OMB/38/2017
DESCRIPTION:Sub station Related Dispute
URL:https://gercin.org/hearing-schedule/omb-38-2017/
CATEGORIES:Ombudsman Hearing Schedule Ahmedabad
END:VEVENT
BEGIN:VEVENT
DTSTART;TZID=Asia/Kolkata:20170518T113000
DTEND;TZID=Asia/Kolkata:20170518T173000
DTSTAMP:20260420T102635
CREATED:20190826T170425Z
LAST-MODIFIED:20190826T170425Z
UID:9116-1495107000-1495128600@gercin.org
SUMMARY:OMB/30/2017
DESCRIPTION:Change of Name
URL:https://gercin.org/hearing-schedule/omb-30-2017-2/
CATEGORIES:Ombudsman Hearing Schedule Ahmedabad
END:VEVENT
BEGIN:VEVENT
DTSTART;TZID=Asia/Kolkata:20170518T113000
DTEND;TZID=Asia/Kolkata:20170518T173000
DTSTAMP:20260420T102635
CREATED:20190826T170454Z
LAST-MODIFIED:20190826T170454Z
UID:9164-1495107000-1495128600@gercin.org
SUMMARY:OMB/15/2017
DESCRIPTION:Review case no.15/2017
URL:https://gercin.org/hearing-schedule/omb-15-2017-2/
CATEGORIES:Ombudsman Hearing Schedule Ahmedabad
END:VEVENT
BEGIN:VEVENT
DTSTART;TZID=Asia/Kolkata:20170518T113000
DTEND;TZID=Asia/Kolkata:20170518T173000
DTSTAMP:20260420T102635
CREATED:20190826T170556Z
LAST-MODIFIED:20190826T170556Z
UID:9242-1495107000-1495128600@gercin.org
SUMMARY:OMB/33/2017
DESCRIPTION:Meter Reading & Billing Issue
URL:https://gercin.org/hearing-schedule/omb-33-2017/
CATEGORIES:Ombudsman Hearing Schedule Ahmedabad
END:VEVENT
BEGIN:VEVENT
DTSTART;TZID=Asia/Kolkata:20170518T113000
DTEND;TZID=Asia/Kolkata:20170518T173000
DTSTAMP:20260420T102635
CREATED:20190826T170556Z
LAST-MODIFIED:20190826T170556Z
UID:9243-1495107000-1495128600@gercin.org
SUMMARY:OMB/34/2017
DESCRIPTION:Estimate Related
URL:https://gercin.org/hearing-schedule/omb-34-2017/
CATEGORIES:Ombudsman Hearing Schedule Ahmedabad
END:VEVENT
BEGIN:VEVENT
DTSTART;TZID=Asia/Kolkata:20170518T113000
DTEND;TZID=Asia/Kolkata:20170518T173000
DTSTAMP:20260420T102635
CREATED:20190826T170556Z
LAST-MODIFIED:20190826T170556Z
UID:9244-1495107000-1495128600@gercin.org
SUMMARY:OMB/35/2017
DESCRIPTION:Delay in release of connection
URL:https://gercin.org/hearing-schedule/omb-35-2017-3/
CATEGORIES:Ombudsman Hearing Schedule Ahmedabad
END:VEVENT
BEGIN:VEVENT
DTSTART;TZID=Asia/Kolkata:20170518T153000
DTEND;TZID=Asia/Kolkata:20170518T220000
DTSTAMP:20260420T102635
CREATED:20190826T133654Z
LAST-MODIFIED:20190826T133654Z
UID:7429-1495121400-1495144800@gercin.org
SUMMARY:IA No. 03 of 2017 in Petition No. 1511 of 2015
DESCRIPTION:Pronouncement of order in IA No. 03 of 2017 in Petition No. 1511 of 2015.
URL:https://gercin.org/hearing-schedule/ia-no-03-of-2017-in-petition-no-1511-of-2015/
CATEGORIES:Hearing Schedule
END:VEVENT
BEGIN:VEVENT
DTSTART;TZID=Asia/Kolkata:20170518T153000
DTEND;TZID=Asia/Kolkata:20170518T220000
DTSTAMP:20260420T102635
CREATED:20190826T133708Z
LAST-MODIFIED:20190826T133708Z
UID:7441-1495121400-1495144800@gercin.org
SUMMARY:IA No. 04 of 2017 in Petition No. 1532 of 2015
DESCRIPTION:Pronouncement of order in IA No. 04 of 2017 in Petition No. 1532 of 2015.
URL:https://gercin.org/hearing-schedule/ia-no-04-of-2017-in-petition-no-1532-of-2015/
CATEGORIES:Hearing Schedule
END:VEVENT
END:VCALENDAR