        BEGIN:VCALENDAR
VERSION:2.0
PRODID:-//Gujarat Electricity Regulatory Commission - ECPv5.3.0//NONSGML v1.0//EN
CALSCALE:GREGORIAN
METHOD:PUBLISH
X-WR-CALNAME:Gujarat Electricity Regulatory Commission
X-ORIGINAL-URL:https://gercin.org
X-WR-CALDESC:Events for Gujarat Electricity Regulatory Commission
BEGIN:VTIMEZONE
TZID:Asia/Kolkata
BEGIN:STANDARD
TZOFFSETFROM:+0530
TZOFFSETTO:+0530
TZNAME:IST
DTSTART:20160101T000000
END:STANDARD
END:VTIMEZONE
BEGIN:VEVENT
DTSTART;TZID=Asia/Kolkata:20161124T113000
DTEND;TZID=Asia/Kolkata:20161124T173000
DTSTAMP:20260420T073023
CREATED:20190826T170312Z
LAST-MODIFIED:20190826T170312Z
UID:9036-1479987000-1480008600@gercin.org
SUMMARY:OMB/112/2016
DESCRIPTION:Shifting Related
URL:https://gercin.org/hearing-schedule/omb-112-2016-2/
CATEGORIES:Ombudsman Hearing Schedule Ahmedabad
END:VEVENT
BEGIN:VEVENT
DTSTART;TZID=Asia/Kolkata:20161124T113000
DTEND;TZID=Asia/Kolkata:20161124T173000
DTSTAMP:20260420T073023
CREATED:20190826T170312Z
LAST-MODIFIED:20190826T170312Z
UID:9037-1479987000-1480008600@gercin.org
SUMMARY:OMB/129/2016
DESCRIPTION:PDC Reconnection with Name change
URL:https://gercin.org/hearing-schedule/omb-129-2016-2/
CATEGORIES:Ombudsman Hearing Schedule Ahmedabad
END:VEVENT
BEGIN:VEVENT
DTSTART;TZID=Asia/Kolkata:20161124T113000
DTEND;TZID=Asia/Kolkata:20161124T173000
DTSTAMP:20260420T073023
CREATED:20190826T170312Z
LAST-MODIFIED:20190826T170312Z
UID:9038-1479987000-1480008600@gercin.org
SUMMARY:OMB/131/2016
DESCRIPTION:Temporary Connection
URL:https://gercin.org/hearing-schedule/omb-131-2016-2/
CATEGORIES:Ombudsman Hearing Schedule Ahmedabad
END:VEVENT
BEGIN:VEVENT
DTSTART;TZID=Asia/Kolkata:20161124T113000
DTEND;TZID=Asia/Kolkata:20161124T173000
DTSTAMP:20260420T073023
CREATED:20190826T170312Z
LAST-MODIFIED:20190826T170312Z
UID:9039-1479987000-1480008600@gercin.org
SUMMARY:OMB/132/2016
DESCRIPTION:Billing Related
URL:https://gercin.org/hearing-schedule/omb-132-2016/
CATEGORIES:Ombudsman Hearing Schedule Ahmedabad
END:VEVENT
BEGIN:VEVENT
DTSTART;TZID=Asia/Kolkata:20161124T113000
DTEND;TZID=Asia/Kolkata:20161124T173000
DTSTAMP:20260420T073023
CREATED:20190826T170354Z
LAST-MODIFIED:20190826T170354Z
UID:9084-1479987000-1480008600@gercin.org
SUMMARY:OMB/121/2016
DESCRIPTION:Billing Related
URL:https://gercin.org/hearing-schedule/omb-121-2016-3/
CATEGORIES:Ombudsman Hearing Schedule Ahmedabad
END:VEVENT
BEGIN:VEVENT
DTSTART;TZID=Asia/Kolkata:20161124T113000
DTEND;TZID=Asia/Kolkata:20161124T173000
DTSTAMP:20260420T073023
CREATED:20190826T170354Z
LAST-MODIFIED:20190826T170354Z
UID:9085-1479987000-1480008600@gercin.org
SUMMARY:OMB/122/2016
DESCRIPTION:New Agriculture Connection
URL:https://gercin.org/hearing-schedule/omb-122-2016-3/
CATEGORIES:Ombudsman Hearing Schedule Ahmedabad
END:VEVENT
BEGIN:VEVENT
DTSTART;TZID=Asia/Kolkata:20161124T113000
DTEND;TZID=Asia/Kolkata:20161124T173000
DTSTAMP:20260420T073023
CREATED:20190826T170354Z
LAST-MODIFIED:20190826T170354Z
UID:9086-1479987000-1480008600@gercin.org
SUMMARY:OMB/123/2016
DESCRIPTION:Erection of Transformer
URL:https://gercin.org/hearing-schedule/omb-123-2016-3/
CATEGORIES:Ombudsman Hearing Schedule Ahmedabad
END:VEVENT
END:VCALENDAR