        BEGIN:VCALENDAR
VERSION:2.0
PRODID:-//Gujarat Electricity Regulatory Commission - ECPv5.3.0//NONSGML v1.0//EN
CALSCALE:GREGORIAN
METHOD:PUBLISH
X-WR-CALNAME:Gujarat Electricity Regulatory Commission
X-ORIGINAL-URL:https://gercin.org
X-WR-CALDESC:Events for Gujarat Electricity Regulatory Commission
BEGIN:VTIMEZONE
TZID:Asia/Kolkata
BEGIN:STANDARD
TZOFFSETFROM:+0530
TZOFFSETTO:+0530
TZNAME:IST
DTSTART:20160101T000000
END:STANDARD
END:VTIMEZONE
BEGIN:VEVENT
DTSTART;TZID=Asia/Kolkata:20161006T110000
DTEND;TZID=Asia/Kolkata:20161006T170000
DTSTAMP:20260420T131801
CREATED:20190826T170150Z
LAST-MODIFIED:20190826T170150Z
UID:9013-1475751600-1475773200@gercin.org
SUMMARY:OMB/106/2016
DESCRIPTION:Estimate Related
URL:https://gercin.org/hearing-schedule/omb-106-2016-2/
CATEGORIES:Ombudsman Hearing Schedule Ahmedabad
END:VEVENT
BEGIN:VEVENT
DTSTART;TZID=Asia/Kolkata:20161006T110000
DTEND;TZID=Asia/Kolkata:20161006T170000
DTSTAMP:20260420T131801
CREATED:20190826T170229Z
LAST-MODIFIED:20190826T170229Z
UID:9014-1475751600-1475773200@gercin.org
SUMMARY:OMB/68/2016
DESCRIPTION:Review case no.68/2016
URL:https://gercin.org/hearing-schedule/omb-68-2016-4/
CATEGORIES:Ombudsman Hearing Schedule Ahmedabad
END:VEVENT
BEGIN:VEVENT
DTSTART;TZID=Asia/Kolkata:20161006T110000
DTEND;TZID=Asia/Kolkata:20161006T170000
DTSTAMP:20260420T131801
CREATED:20190826T170340Z
LAST-MODIFIED:20190826T170340Z
UID:9054-1475751600-1475773200@gercin.org
SUMMARY:OMB/107/2016
DESCRIPTION:Estimate Related
URL:https://gercin.org/hearing-schedule/omb-107-2016-2/
CATEGORIES:Ombudsman Hearing Schedule Ahmedabad
END:VEVENT
BEGIN:VEVENT
DTSTART;TZID=Asia/Kolkata:20161006T110000
DTEND;TZID=Asia/Kolkata:20161006T170000
DTSTAMP:20260420T131801
CREATED:20190826T170340Z
LAST-MODIFIED:20190826T170340Z
UID:9055-1475751600-1475773200@gercin.org
SUMMARY:OMB/110/2016
DESCRIPTION:New Agriculture Connection
URL:https://gercin.org/hearing-schedule/omb-110-2016-2/
CATEGORIES:Ombudsman Hearing Schedule Ahmedabad
END:VEVENT
BEGIN:VEVENT
DTSTART;TZID=Asia/Kolkata:20161006T110000
DTEND;TZID=Asia/Kolkata:20161006T170000
DTSTAMP:20260420T131801
CREATED:20190826T170340Z
LAST-MODIFIED:20190826T170340Z
UID:9056-1475751600-1475773200@gercin.org
SUMMARY:OMB/111/2016
DESCRIPTION:Shifting Related
URL:https://gercin.org/hearing-schedule/omb-111-2016/
CATEGORIES:Ombudsman Hearing Schedule Ahmedabad
END:VEVENT
BEGIN:VEVENT
DTSTART;TZID=Asia/Kolkata:20161006T110000
DTEND;TZID=Asia/Kolkata:20161006T170000
DTSTAMP:20260420T131801
CREATED:20190826T170340Z
LAST-MODIFIED:20190826T170340Z
UID:9057-1475751600-1475773200@gercin.org
SUMMARY:OMB/112/2016
DESCRIPTION:Shifting Related
URL:https://gercin.org/hearing-schedule/omb-112-2016-3/
CATEGORIES:Ombudsman Hearing Schedule Ahmedabad
END:VEVENT
BEGIN:VEVENT
DTSTART;TZID=Asia/Kolkata:20161006T110000
DTEND;TZID=Asia/Kolkata:20161006T170000
DTSTAMP:20260420T131801
CREATED:20190826T170340Z
LAST-MODIFIED:20190826T170340Z
UID:9058-1475751600-1475773200@gercin.org
SUMMARY:OMB/113/2016
DESCRIPTION:New Agriculture Connection
URL:https://gercin.org/hearing-schedule/omb-113-2016/
CATEGORIES:Ombudsman Hearing Schedule Ahmedabad
END:VEVENT
END:VCALENDAR