        BEGIN:VCALENDAR
VERSION:2.0
PRODID:-//Gujarat Electricity Regulatory Commission - ECPv5.3.0//NONSGML v1.0//EN
CALSCALE:GREGORIAN
METHOD:PUBLISH
X-WR-CALNAME:Gujarat Electricity Regulatory Commission
X-ORIGINAL-URL:https://gercin.org
X-WR-CALDESC:Events for Gujarat Electricity Regulatory Commission
BEGIN:VTIMEZONE
TZID:Asia/Kolkata
BEGIN:STANDARD
TZOFFSETFROM:+0530
TZOFFSETTO:+0530
TZNAME:IST
DTSTART:20260101T000000
END:STANDARD
END:VTIMEZONE
BEGIN:VEVENT
DTSTART;TZID=Asia/Kolkata:20260423T113000
DTEND;TZID=Asia/Kolkata:20260423T170000
DTSTAMP:20260423T163245
CREATED:20260414T041539Z
LAST-MODIFIED:20260414T041539Z
UID:45671-1776943800-1776963600@gercin.org
SUMMARY:R.P. No. 30/2025 in Petition No. 2176/2023
DESCRIPTION:Review Petition under Section 94 (1) (f) of EA\, 2003 read with Regulation 72 (1) of the GERC (Conduct of Business)\nRegulations\, 2004 seeking review of the Commission’ Order dated 04.07.2024 in Petition No. 2176 of 2023.
URL:https://gercin.org/hearing-schedule/r-p-no-30-2025-in-petition-no-2176-2023/
CATEGORIES:Hearing Schedule
END:VEVENT
END:VCALENDAR