        BEGIN:VCALENDAR
VERSION:2.0
PRODID:-//Gujarat Electricity Regulatory Commission - ECPv5.3.0//NONSGML v1.0//EN
CALSCALE:GREGORIAN
METHOD:PUBLISH
X-WR-CALNAME:Gujarat Electricity Regulatory Commission
X-ORIGINAL-URL:https://gercin.org
X-WR-CALDESC:Events for Gujarat Electricity Regulatory Commission
BEGIN:VTIMEZONE
TZID:Asia/Kolkata
BEGIN:STANDARD
TZOFFSETFROM:+0530
TZOFFSETTO:+0530
TZNAME:IST
DTSTART:20260101T000000
END:STANDARD
END:VTIMEZONE
BEGIN:VEVENT
DTSTART;TZID=Asia/Kolkata:20260505T110000
DTEND;TZID=Asia/Kolkata:20260505T170000
DTSTAMP:20260424T002321
CREATED:20260422T073855Z
LAST-MODIFIED:20260422T073929Z
UID:45817-1777978800-1778000400@gercin.org
SUMMARY:OMB/RJT/23/2026
DESCRIPTION:Disconnection of supply
URL:https://gercin.org/hearing-schedule/omb-rjt-22-2026-2/
CATEGORIES:Ombudsman Hearing Schedule Rajkot
END:VEVENT
END:VCALENDAR