        BEGIN:VCALENDAR
VERSION:2.0
PRODID:-//Gujarat Electricity Regulatory Commission - ECPv5.3.0//NONSGML v1.0//EN
CALSCALE:GREGORIAN
METHOD:PUBLISH
X-WR-CALNAME:Gujarat Electricity Regulatory Commission
X-ORIGINAL-URL:https://gercin.org
X-WR-CALDESC:Events for Gujarat Electricity Regulatory Commission
BEGIN:VTIMEZONE
TZID:Asia/Kolkata
BEGIN:STANDARD
TZOFFSETFROM:+0530
TZOFFSETTO:+0530
TZNAME:IST
DTSTART:20260101T000000
END:STANDARD
END:VTIMEZONE
BEGIN:VEVENT
DTSTART;TZID=Asia/Kolkata:20260423T113000
DTEND;TZID=Asia/Kolkata:20260423T170000
DTSTAMP:20260423T162956
CREATED:20260421T094348Z
LAST-MODIFIED:20260421T094348Z
UID:45773-1776943800-1776963600@gercin.org
SUMMARY:2641/2026
DESCRIPTION:Petition under Section 63 read with Section 86 (1) (b) of the Electricity Act\, 2003 for seeking adoption of tariff discovered under Competitive Bidding Process conducted vide RfS No. GUVNL/ BESS/ Phase VIII dated 29.12.2025 issued by GUVNL for  purchase of power through Competitive Bidding Process (followed by e-reverse auction) for setting up of Projects of 335 MW/670 Mwh standalone Battery Energy Storage Systems in Gujarat under Tariff based Global Competitive Bidding with Viability Gap Funding supported through PSDF (Phase – VIII).
URL:https://gercin.org/hearing-schedule/2641-2026/
CATEGORIES:Hearing Schedule
END:VEVENT
END:VCALENDAR