        BEGIN:VCALENDAR
VERSION:2.0
PRODID:-//Gujarat Electricity Regulatory Commission - ECPv5.3.0//NONSGML v1.0//EN
CALSCALE:GREGORIAN
METHOD:PUBLISH
X-WR-CALNAME:Gujarat Electricity Regulatory Commission
X-ORIGINAL-URL:https://gercin.org
X-WR-CALDESC:Events for Gujarat Electricity Regulatory Commission
BEGIN:VTIMEZONE
TZID:Asia/Kolkata
BEGIN:STANDARD
TZOFFSETFROM:+0530
TZOFFSETTO:+0530
TZNAME:IST
DTSTART:20260101T000000
END:STANDARD
END:VTIMEZONE
BEGIN:VEVENT
DTSTART;TZID=Asia/Kolkata:20260423T113000
DTEND;TZID=Asia/Kolkata:20260423T170000
DTSTAMP:20260423T162953
CREATED:20260414T042312Z
LAST-MODIFIED:20260414T042312Z
UID:45679-1776943800-1776963600@gercin.org
SUMMARY:2631/2026
DESCRIPTION:Petition under Sections 86 (1) (c) (e) and (k) of Electricity Act\, 2003 and as per Clause 3.9 of Petition under Sections 42\, 43\, 50 and 86(1)(f) of the Electricity Act\, 2003 read with Regulations 4.32 and 4.33 of the GERC (Electricity Supply Code and Related Matters) Regulations\, 2015 and relevant provisions of the GERC (Standard of Performance of Distribution\nLicensees) Regulations\, 2023\, seeking (i) Declaration that the period during which site access was denied due to Control\nRoom Shifting works at 66 kV Umbergaon\, Sub-Station is liable to be excluded for computation of the 180 days’ timeline\nunder Option-III; and (ii) Consequential direction to Respondent No. 1 to revise the date of commencement of minimum\nbilling and refund excess minimum demand charges recovered on deemed release basis.
URL:https://gercin.org/hearing-schedule/2631-2026/
CATEGORIES:Hearing Schedule
END:VEVENT
END:VCALENDAR