        BEGIN:VCALENDAR
VERSION:2.0
PRODID:-//Gujarat Electricity Regulatory Commission - ECPv5.3.0//NONSGML v1.0//EN
CALSCALE:GREGORIAN
METHOD:PUBLISH
X-WR-CALNAME:Gujarat Electricity Regulatory Commission
X-ORIGINAL-URL:https://gercin.org
X-WR-CALDESC:Events for Gujarat Electricity Regulatory Commission
BEGIN:VTIMEZONE
TZID:Asia/Kolkata
BEGIN:STANDARD
TZOFFSETFROM:+0530
TZOFFSETTO:+0530
TZNAME:IST
DTSTART:20260101T000000
END:STANDARD
END:VTIMEZONE
BEGIN:VEVENT
DTSTART;TZID=Asia/Kolkata:20260417T113000
DTEND;TZID=Asia/Kolkata:20260417T170000
DTSTAMP:20260423T201620
CREATED:20260414T033825Z
LAST-MODIFIED:20260414T033825Z
UID:45641-1776425400-1776445200@gercin.org
SUMMARY:2629/2026
DESCRIPTION:Petition seeking approval of the long term Power Procurement plan from a co-generation based Thermal Power Source (Industrial Co-generation Plant)\, in accordance with Clause 108 of the GERC (MYT) Regulations\, 2024 and under the provisions of Section 86 (1) (b) and Section 62 of the Electricity Act\, 2003 read with Clause 4 (vi) of the Guidelines issued by the Department of Commerce (SEZ Division)\, Govt. of India dated 27.10.2010.
URL:https://gercin.org/hearing-schedule/2629-2026/
CATEGORIES:Hearing Schedule
END:VEVENT
END:VCALENDAR