        BEGIN:VCALENDAR
VERSION:2.0
PRODID:-//Gujarat Electricity Regulatory Commission - ECPv5.3.0//NONSGML v1.0//EN
CALSCALE:GREGORIAN
METHOD:PUBLISH
X-WR-CALNAME:Gujarat Electricity Regulatory Commission
X-ORIGINAL-URL:https://gercin.org
X-WR-CALDESC:Events for Gujarat Electricity Regulatory Commission
BEGIN:VTIMEZONE
TZID:Asia/Kolkata
BEGIN:STANDARD
TZOFFSETFROM:+0530
TZOFFSETTO:+0530
TZNAME:IST
DTSTART:20260101T000000
END:STANDARD
END:VTIMEZONE
BEGIN:VEVENT
DTSTART;TZID=Asia/Kolkata:20260417T113000
DTEND;TZID=Asia/Kolkata:20260417T170000
DTSTAMP:20260423T201559
CREATED:20260414T034107Z
LAST-MODIFIED:20260415T102519Z
UID:45643-1776425400-1776445200@gercin.org
SUMMARY:2593/2025
DESCRIPTION:Petition filed under Section 86 (1) (a) of the Electricity Act\, 2003 read with Article 11 of Power Purchase Agreement dated 14.12.2022 seeking directions to the Respondent to refund the amounts unilaterally deducted from the tariff payable for the solar power supplied by the Petitioner.
URL:https://gercin.org/hearing-schedule/2593-2025/
CATEGORIES:Hearing Schedule
END:VEVENT
END:VCALENDAR