        BEGIN:VCALENDAR
VERSION:2.0
PRODID:-//Gujarat Electricity Regulatory Commission - ECPv5.3.0//NONSGML v1.0//EN
CALSCALE:GREGORIAN
METHOD:PUBLISH
X-WR-CALNAME:Gujarat Electricity Regulatory Commission
X-ORIGINAL-URL:https://gercin.org
X-WR-CALDESC:Events for Gujarat Electricity Regulatory Commission
BEGIN:VTIMEZONE
TZID:Asia/Kolkata
BEGIN:STANDARD
TZOFFSETFROM:+0530
TZOFFSETTO:+0530
TZNAME:IST
DTSTART:20260101T000000
END:STANDARD
END:VTIMEZONE
BEGIN:VEVENT
DTSTART;TZID=Asia/Kolkata:20260417T113000
DTEND;TZID=Asia/Kolkata:20260417T170000
DTSTAMP:20260423T201757
CREATED:20260414T033448Z
LAST-MODIFIED:20260414T033448Z
UID:45635-1776425400-1776445200@gercin.org
SUMMARY:2580/2025 & IAs No. 111/2025 & 112/2025
DESCRIPTION:Petition under Section 86 of EA\, 2003 read with Regulations 80 & 82 GERC (Conduct of Business) Regulations\, 2004\, read with Gujarat Renewable Energy Policy\, 2023 & amendments thereof and the Tariff Order dated 31.08.2024 praying before the Commission to exercise its powers under Section 86 of EA\, 2003 and direct the Respondent GETCO to return/refund/refrain from encashing Bank Guarantee Bearing No. 0871IGP231009976 dated 15.04.2023 amounting to Rs. 25\,00\,000/- from Kotak Mahindra Bank Limited furnished by the Petitioner and further to return the amount of Rs 11\,42\,337/- paid by Petitioner on 03.07.23\, being the provisional line estimate.
URL:https://gercin.org/hearing-schedule/2580-2025-ias-no-111-2025-112-2025/
CATEGORIES:Hearing Schedule
END:VEVENT
END:VCALENDAR