        BEGIN:VCALENDAR
VERSION:2.0
PRODID:-//Gujarat Electricity Regulatory Commission - ECPv5.3.0//NONSGML v1.0//EN
CALSCALE:GREGORIAN
METHOD:PUBLISH
X-WR-CALNAME:Gujarat Electricity Regulatory Commission
X-ORIGINAL-URL:https://gercin.org
X-WR-CALDESC:Events for Gujarat Electricity Regulatory Commission
BEGIN:VTIMEZONE
TZID:Asia/Kolkata
BEGIN:STANDARD
TZOFFSETFROM:+0530
TZOFFSETTO:+0530
TZNAME:IST
DTSTART:20260101T000000
END:STANDARD
END:VTIMEZONE
BEGIN:VEVENT
DTSTART;TZID=Asia/Kolkata:20260415T113000
DTEND;TZID=Asia/Kolkata:20260415T170000
DTSTAMP:20260423T214210
CREATED:20260410T060159Z
LAST-MODIFIED:20260410T060159Z
UID:45626-1776252600-1776272400@gercin.org
SUMMARY:2531/2025 & allied IA
DESCRIPTION:Petition under Section 86 (1) (b)\, 86(1)(e)\, Section 86(1)(f) and 86(1)(k) of the Electricity Act\, 2003 read with Article 8 of the Power Purchase Agreement dated 10.05.2023 executed between M/s Juniper Green Beam Private Limited and Gujarat Urja Vikas Nigam Limited\, for supply of 50 MW Wind Power from its Project in the State of Gujarat\, seeking interalia extension of the Scheduled Commercial Operation Date on account of certain Force Majeure Events affecting the Project implementation and thereby passing appropriate Order(s)/ direction(s) in this regard to the extent prayed for herein.
URL:https://gercin.org/hearing-schedule/2531-2025-allied-ia-3/
CATEGORIES:Hearing Schedule
END:VEVENT
END:VCALENDAR