        BEGIN:VCALENDAR
VERSION:2.0
PRODID:-//Gujarat Electricity Regulatory Commission - ECPv5.3.0//NONSGML v1.0//EN
CALSCALE:GREGORIAN
METHOD:PUBLISH
X-WR-CALNAME:Gujarat Electricity Regulatory Commission
X-ORIGINAL-URL:https://gercin.org
X-WR-CALDESC:Events for Gujarat Electricity Regulatory Commission
BEGIN:VTIMEZONE
TZID:Asia/Kolkata
BEGIN:STANDARD
TZOFFSETFROM:+0530
TZOFFSETTO:+0530
TZNAME:IST
DTSTART:20260101T000000
END:STANDARD
END:VTIMEZONE
BEGIN:VEVENT
DTSTART;TZID=Asia/Kolkata:20260220T113000
DTEND;TZID=Asia/Kolkata:20260220T170000
DTSTAMP:20260423T095023
CREATED:20260212T070609Z
LAST-MODIFIED:20260212T070609Z
UID:44906-1771587000-1771606800@gercin.org
SUMMARY:2335/2024
DESCRIPTION:Petition under Section 86 of EA\, 2003 read with Regulations 80 & 82 of the GERC (Conduct of Business) Regulations\, 2004\, read with Gujarat Wind-Solar Hybrid Power Policy\, 2018 & amendments thereof and the Tariff Order dated 03.04.2021 praying before Commission to execute its powers under Section 86 of EA\, 2003 and direct GETCO to grant extension of time for execution of 70 MW Solar-Wind Hybrid Project.
URL:https://gercin.org/hearing-schedule/2335-2024/
CATEGORIES:Hearing Schedule
END:VEVENT
END:VCALENDAR