        BEGIN:VCALENDAR
VERSION:2.0
PRODID:-//Gujarat Electricity Regulatory Commission - ECPv5.3.0//NONSGML v1.0//EN
CALSCALE:GREGORIAN
METHOD:PUBLISH
X-WR-CALNAME:Gujarat Electricity Regulatory Commission
X-ORIGINAL-URL:https://gercin.org
X-WR-CALDESC:Events for Gujarat Electricity Regulatory Commission
BEGIN:VTIMEZONE
TZID:Asia/Kolkata
BEGIN:STANDARD
TZOFFSETFROM:+0530
TZOFFSETTO:+0530
TZNAME:IST
DTSTART:20240101T000000
END:STANDARD
END:VTIMEZONE
BEGIN:VEVENT
DTSTART;TZID=Asia/Kolkata:20240924T113000
DTEND;TZID=Asia/Kolkata:20240924T170000
DTSTAMP:20260425T190613
CREATED:20240919T120410Z
LAST-MODIFIED:20240919T120410Z
UID:39335-1727177400-1727197200@gercin.org
SUMMARY:1944/2021
DESCRIPTION:Petition under Section 86 (1) (f) of the EA\, 2003 for seeking adjustment of the tariff payable under PPA dated 26.02.2007 executed between the parties for 1200 MW Salaya – I Thermal Power Plant of the Petitioner.
URL:https://gercin.org/hearing-schedule/1944-2021-3/
CATEGORIES:Hearing Schedule
END:VEVENT
END:VCALENDAR