        BEGIN:VCALENDAR
VERSION:2.0
PRODID:-//Gujarat Electricity Regulatory Commission - ECPv5.3.0//NONSGML v1.0//EN
CALSCALE:GREGORIAN
METHOD:PUBLISH
X-WR-CALNAME:Gujarat Electricity Regulatory Commission
X-ORIGINAL-URL:https://gercin.org
X-WR-CALDESC:Events for Gujarat Electricity Regulatory Commission
BEGIN:VTIMEZONE
TZID:Asia/Kolkata
BEGIN:STANDARD
TZOFFSETFROM:+0530
TZOFFSETTO:+0530
TZNAME:IST
DTSTART:20240101T000000
END:STANDARD
END:VTIMEZONE
BEGIN:VEVENT
DTSTART;TZID=Asia/Kolkata:20240123T113000
DTEND;TZID=Asia/Kolkata:20240123T170000
DTSTAMP:20260422T022503
CREATED:20240120T101021Z
LAST-MODIFIED:20240120T101021Z
UID:37069-1706009400-1706029200@gercin.org
SUMMARY:1906/2020
DESCRIPTION:In the matter of Petition under Section 63 read with Section 86 (1) (b) of the EA\, 2003 seeking adoption of tariff discovered under Competitive Bidding process for procurement of power from 700 MW Solar PV Projects to be set up in 1000 MW Dholera Solar Park in Gujarat through RFS dated 18.03.2020 (Phase IX).
URL:https://gercin.org/hearing-schedule/1906-2020-4/
CATEGORIES:Hearing Schedule
END:VEVENT
END:VCALENDAR