        BEGIN:VCALENDAR
VERSION:2.0
PRODID:-//Gujarat Electricity Regulatory Commission - ECPv5.3.0//NONSGML v1.0//EN
CALSCALE:GREGORIAN
METHOD:PUBLISH
X-WR-CALNAME:Gujarat Electricity Regulatory Commission
X-ORIGINAL-URL:https://gercin.org
X-WR-CALDESC:Events for Gujarat Electricity Regulatory Commission
BEGIN:VTIMEZONE
TZID:Asia/Kolkata
BEGIN:STANDARD
TZOFFSETFROM:+0530
TZOFFSETTO:+0530
TZNAME:IST
DTSTART:20260101T000000
END:STANDARD
END:VTIMEZONE
BEGIN:VEVENT
DTSTART;TZID=Asia/Kolkata:20260423T113000
DTEND;TZID=Asia/Kolkata:20260423T170000
DTSTAMP:20260423T163113
CREATED:20260414T040909Z
LAST-MODIFIED:20260414T040909Z
UID:45665-1776943800-1776963600@gercin.org
SUMMARY:1906/2020
DESCRIPTION:Petition under Section 63 read with Section 86 (1) (b) of the Electricity Act\, 2003 seeking adoption of tariff discovered under Competitive Bidding process for procurement of power from 700 MW Solar PV Projects to be set up in 1000 MW Dholera\nSolar Park in Gujarat through RFS dated 18.03.2020 (Phase IX).
URL:https://gercin.org/hearing-schedule/1906-2020-11/
CATEGORIES:Hearing Schedule
END:VEVENT
END:VCALENDAR